BEGIN:VCALENDAR
VERSION:2.0
PRODID:-//Charles Darwin Events//EN
BEGIN:VEVENT
SUMMARY:Prepare A Strong Conference Abstract
UID:8e758be0-d6a5-4094-b98e-55e9aa5e04e6
DTSTART:20240325T033000Z
DTEND:20240325T050000Z
DTSTAMP:20220117T234008Z
LOCATION:Online 
DESCRIPTION:Writing research abstract workshop
URL:https://www.cdu.edu.au/research-and-innovation/research-innovation-events/prepare-strong-conference-abstract
END:VEVENT
END:VCALENDAR
