BEGIN:VCALENDAR
VERSION:2.0
PRODID:-//Charles Darwin Events//EN
BEGIN:VEVENT
SUMMARY:Completion Masterclass
UID:122b49af-c4f9-4108-a605-10105d518d81
DTSTART:20260526T000000Z
DTEND:20260526T023000Z
DTSTAMP:20220425T130808Z
LOCATION:Online
DESCRIPTION:This workshop is designed to assist research students who are close to completion to focus their efforts, deal with specific obstacles, increase writing productivity and maintain momentum.
URL:https://www.cdu.edu.au/research-and-innovation/research-innovation-events/completion-masterclass
END:VEVENT
END:VCALENDAR
