BEGIN:VCALENDAR
VERSION:2.0
PRODID:-//Charles Darwin Events//EN
BEGIN:VEVENT
SUMMARY:How to be a Narrative Ninja
UID:77ee05cc-4e44-476b-bbce-c21fd1cc1367
DTSTART:20251008T000000Z
DTEND:20251008T023000Z
DTSTAMP:20220812T020928Z
LOCATION:Online
DESCRIPTION:This workshop will show you why narrative is so important and how to construct a narrative.
URL:https://www.cdu.edu.au/research-and-innovation/research-innovation-events/how-be-narrative-ninja
END:VEVENT
END:VCALENDAR
