BEGIN:VCALENDAR
VERSION:2.0
PRODID:-//Charles Darwin Events//EN
BEGIN:VEVENT
SUMMARY:Time for Research 
UID:fe54aa7f-353d-4e90-af57-6f5b1f027a4e
DTSTART:20240701T000000Z
DTEND:20240701T023000Z
DTSTAMP:20220825T120639Z
LOCATION:Online
DESCRIPTION:As a busy academic/ research student do you feel like you never have enough time to get to your research, particularly the writing part? And that other things like doing the research, teaching, administration, committees, emails etc. demand all your time?
URL:https://www.cdu.edu.au/research-and-innovation/research-innovation-events/time-research-0
END:VEVENT
END:VCALENDAR
