BEGIN:VCALENDAR
VERSION:2.0
PRODID:-//Charles Darwin Events//EN
BEGIN:VEVENT
SUMMARY:Monitoring Australia&#039;s Ecosystems - TERN&#039;s field program
UID:bc57d645-a95c-46ac-871e-f30722f3eada
DTSTART:20220914T023000Z
DTEND:20220914T033000Z
DTSTAMP:20220905T011916Z
LOCATION:CDU Casuarina campus, Yellow Building 1.1.39 or Zoom
DESCRIPTION:The TERN Ecosystem Surveillance field program enables consistent and ongoing monitoring to assess and address the direction and magnitude of change across Australian ecosystems, using the AusPlots survey protocol.
URL:https://www.cdu.edu.au/riel/events/tern-field-program
END:VEVENT
END:VCALENDAR
