BEGIN:VCALENDAR
VERSION:2.0
PRODID:-//Charles Darwin Events//EN
BEGIN:VEVENT
SUMMARY:Progressing with Systematic Reviews: Part 2 screening and appraising
UID:94644b8c-5d74-4e7f-bf12-eed712b74ed0
DTSTART:20240325T053000Z
DTEND:20240325T063000Z
DTSTAMP:20230329T062737Z
LOCATION:Online
DESCRIPTION:This workshop will introduce you to the main concepts and tools you can use to plan and complete your systematic review, well, systematically.
URL:https://www.cdu.edu.au/research-and-innovation/research-innovation-events/progressing-systematic-reviews-part-2-screening-appraising
END:VEVENT
END:VCALENDAR
