BEGIN:VCALENDAR
VERSION:2.0
PRODID:-//Charles Darwin Events//EN
BEGIN:VEVENT
SUMMARY:Advanced Database Searching for Health
UID:bcd438e6-39b8-4f07-8a59-a7891b614ef3
DTSTART:20240311T060000Z
DTEND:20240311T070000Z
DTSTAMP:20230331T024934Z
LOCATION:Online
DESCRIPTION:This session will focus on systematic searching that you can use for your scoping/umbrella/rapid/systematic reviews.
URL:https://www.cdu.edu.au/research-and-innovation/research-innovation-events/advanced-database-searching-health
END:VEVENT
END:VCALENDAR
