BEGIN:VCALENDAR
VERSION:2.0
PRODID:-//Charles Darwin Events//EN
BEGIN:VEVENT
SUMMARY:Starting with Systematic Reviews: Part 1 Creating your question
UID:2390b337-0b6b-4fbc-8495-5df31158f404
DTSTART:20240318T053000Z
DTEND:20240318T070000Z
DTSTAMP:20230331T050915Z
LOCATION:Online
DESCRIPTION:Part one is all about creating an answerable question and planning your search.
URL:https://www.cdu.edu.au/research-and-innovation/research-innovation-events/starting-systematic-reviews-part-1-creating-your-question
END:VEVENT
END:VCALENDAR
