BEGIN:VCALENDAR
VERSION:2.0
PRODID:-//Charles Darwin Events//EN
BEGIN:VEVENT
SUMMARY:EndNote Advanced
UID:e1a8c321-569c-4828-81b5-d0e9e90bc926
DTSTART:20240312T023000Z
DTEND:20240312T040000Z
DTSTAMP:20230331T054651Z
LOCATION:Online
DESCRIPTION:Have you mastered adding references to your Endnote Library, and noticing features of Endnote that you'd like to explore further?
URL:https://www.cdu.edu.au/research-and-innovation/research-innovation-events/endnote-advanced
END:VEVENT
END:VCALENDAR
