BEGIN:VCALENDAR
VERSION:2.0
PRODID:-//Charles Darwin Events//EN
BEGIN:VEVENT
SUMMARY:Presentation skills for the conference
UID:818ebf23-1cbe-41d0-b0ae-8f4c37268074
DTSTART:20250703T010000Z
DTEND:20250703T023000Z
DTSTAMP:20230406T013904Z
LOCATION:In-person &amp; Online
DESCRIPTION:This workshop will provide a clear step-by-step structure that you can use again and again to give high quality presentations.
URL:https://www.cdu.edu.au/research-and-innovation/research-innovation-events/presentation-skills-conference-0
END:VEVENT
END:VCALENDAR
