BEGIN:VCALENDAR
VERSION:2.0
PRODID:-//Charles Darwin Events//EN
BEGIN:VEVENT
SUMMARY:Media basics workshop
UID:88db050b-522b-462c-8dda-403b10669c69
DTSTART:20240920T010000Z
DTEND:20240920T023000Z
DTSTAMP:20230515T003702Z
LOCATION:Red9 Sem 1.48 &amp; Online
DESCRIPTION:In the Media Basics workshop, participants will learn about the media landscape for researchers, how to traverse that landscape, and what researchers can discover when engaged with media.
URL:https://www.cdu.edu.au/research-and-innovation/research-innovation-events/media-basics-workshop
END:VEVENT
END:VCALENDAR
