BEGIN:VCALENDAR
VERSION:2.0
PRODID:-//Charles Darwin Events//EN
BEGIN:VEVENT
SUMMARY:Extensive Ethics and Integrity
UID:5a93d5f7-ce2e-48f1-a9a5-0281bf0f5a05
DTSTART:20260417T003000Z
DTEND:20260417T030000Z
DTSTAMP:20230710T011238Z
LOCATION:In-person only
DESCRIPTION:This workshop will provide research students and their supervisors with the foundation required to begin planning ethical research that involves humans as informants and participants.
URL:https://www.cdu.edu.au/research-and-innovation/research-innovation-events/extensive-ethics-integrity
END:VEVENT
END:VCALENDAR
