BEGIN:VCALENDAR
VERSION:2.0
PRODID:-//Charles Darwin Events//EN
BEGIN:VEVENT
SUMMARY:NVIVO basics
UID:bb7eb069-6ef5-410c-bdb2-fb9b1cd22fa6
DTSTART:20250423T033000Z
DTEND:20250423T063000Z
DTSTAMP:20230711T052831Z
LOCATION:Online
DESCRIPTION:In this workshop participants will be introduced to the NVivo software program and learn the essential skills of setting up and starting a project. Whether new to&nbsp;NVivo&nbsp;or needing a&nbsp;refresher this workshop will provide the essential skills to get you going on your research project.
URL:https://www.cdu.edu.au/research-and-innovation/research-innovation-events/nvivo-basics
END:VEVENT
END:VCALENDAR
