BEGIN:VCALENDAR
VERSION:2.0
PRODID:-//Charles Darwin Events//EN
BEGIN:VEVENT
SUMMARY:The seven secrets of highly successful research students
UID:4f8f8948-39f0-4ede-8361-f901117a6a09
DTSTART:20260511T000000Z
DTEND:20260511T023000Z
DTSTAMP:20230828T003950Z
LOCATION:Online (Zoom)
DESCRIPTION:This workshop describes the key habits that our research and experience with thousands of students shows will make a difference to how quickly and easily you complete your RHD. Just as importantly, these habits can greatly reduce the stress and increase the pleasure involved in completing a RHD.
URL:https://www.cdu.edu.au/research-and-innovation/research-innovation-events/seven-secrets-highly-successful-research-students
END:VEVENT
END:VCALENDAR
