BEGIN:VCALENDAR
VERSION:2.0
PRODID:-//Charles Darwin Events//EN
BEGIN:VEVENT
SUMMARY:Staying well during your PhD
UID:99c85cca-4f00-4a17-8671-41552879a81b
DTSTART:20251105T000000Z
DTEND:20251105T023000Z
DTSTAMP:20230829T015725Z
LOCATION:Online (Zoom)
DESCRIPTION:Inevitably over the course of your PhD you will experience times when things aren’t going so well. This workshop draws on evidence-based strategies to help YOU stay well during your PhD.
URL:https://www.cdu.edu.au/research-and-innovation/research-innovation-events/staying-well-during-your-phd
END:VEVENT
END:VCALENDAR
