BEGIN:VCALENDAR
VERSION:2.0
PRODID:-//Charles Darwin Events//EN
BEGIN:VEVENT
SUMMARY:Chinese Feng Shui online seminar
UID:d4a393ae-a606-4a89-b551-2344af8fc853
DTSTART:20240827T093000Z
DTEND:20240827T110000Z
DTSTAMP:20231116T070303Z
LOCATION:Online. Register below to attend.


DESCRIPTION:CDU Confucius Institute cordially invites you to join the upcoming online seminar about Chinese Feng Shui, starting from 7 pm ACST on Tuesday 27 August.
URL:https://www.cdu.edu.au/confucius-institute/events/chinese-feng-shui-online-seminar
END:VEVENT
END:VCALENDAR
