BEGIN:VCALENDAR
VERSION:2.0
PRODID:-//Charles Darwin Events//EN
BEGIN:VEVENT
SUMMARY:Creating a World that Sustains its Languages
UID:55ffccd4-15cb-45a0-9e07-fcd7c20e0697
DTSTART:20240228T010000Z
DTEND:20240228T020000Z
DTSTAMP:20240207T002404Z
LOCATION:Northern Institute&#039;s Savanna Room (CDU Casuarina Campus, Yellow 1.2.48)
DESCRIPTION:In this presentation, the presenter Professor Steven Bird asks: how do various initiatives work when viewed from the standpoint of participants? How do initiatives take local understandings of ‘language’ and ‘vitality’ seriously and play into the local linguistic ecology with its vehicular and vernacular languages?
URL:https://www.cdu.edu.au/northern-institute/engage/northern-institute-events/creating-world-sustains-its-languages
END:VEVENT
END:VCALENDAR
