BEGIN:VCALENDAR
VERSION:2.0
PRODID:-//Charles Darwin Events//EN
BEGIN:VEVENT
SUMMARY:Managing Persistent Identifiers (PIDs)
UID:a0771aa9-5c85-438d-9024-75ac5ede5606
DTSTART:20240328T033000Z
DTEND:20240328T040000Z
DTSTAMP:20240207T055348Z
LOCATION:Online
DESCRIPTION:This short online workshop will give you the confidence to use PIDs
URL:https://www.cdu.edu.au/research-and-innovation/research-innovation-events/managing-persistent-identifiers-pids
END:VEVENT
END:VCALENDAR
