BEGIN:VCALENDAR
VERSION:2.0
PRODID:-//Charles Darwin Events//EN
BEGIN:VEVENT
SUMMARY:Impact of Research
UID:cfba46e3-6021-4c4f-976d-c9c149856be6
DTSTART:20240222T040000Z
DTEND:20240222T053000Z
DTSTAMP:20240208T015035Z
LOCATION:Red9 Sem 1.48 &amp; Online
DESCRIPTION:This session will provide a high level overview of the content and main themes as well as where to go for more information
URL:https://www.cdu.edu.au/research-and-innovation/research-innovation-events/impact-research
END:VEVENT
END:VCALENDAR
