BEGIN:VCALENDAR
VERSION:2.0
PRODID:-//Charles Darwin Events//EN
BEGIN:VEVENT
SUMMARY:Celebrating Chinese Lunar New Year
UID:215b805e-977d-4f7b-a536-4dd5c206103d
DTSTART:20260214T010000Z
DTEND:20260214T033000Z
DTSTAMP:20240216T015235Z
LOCATION:Library &amp; Archives NT, Level 2 CDU Danala campus
DESCRIPTION:Celebrate Chinese New Year 2026, the year of the Horse, with the Confucius Institute at Library and Archives NT, CDU Danala campus!
URL:https://www.cdu.edu.au/confucius-institute/events/celebrating-chinese-lunar-new-year
END:VEVENT
END:VCALENDAR
