BEGIN:VCALENDAR
VERSION:2.0
PRODID:-//Charles Darwin Events//EN
BEGIN:VEVENT
SUMMARY:Unveiling the hidden world below: Nematodes in agriculture
UID:50568b5e-9957-4fda-a7a8-d54d4c9fe720
DTSTART:20240315T000000Z
DTEND:20240315T010000Z
DTSTAMP:20240219T015920Z
LOCATION:Savanna Room, Yellow 1.2.48 at CDU Casuarina Campus and online via Zoom (see below for Zoom link)
All times are ACST
DESCRIPTION:Jady will take us into the tiny world of nematodes. We will learn about the basics of nematode biology and their impact on agriculture ecosystems, and will discover the importance of plant-parasitic nematodes through Jady’s research
URL:https://www.cdu.edu.au/riel/events/unveiling-hidden-world-below-nematodes-agriculture
END:VEVENT
END:VCALENDAR
