BEGIN:VCALENDAR
VERSION:2.0
PRODID:-//Charles Darwin Events//EN
BEGIN:VEVENT
SUMMARY:Native Title Lecture
UID:12aa6312-acc6-4215-b92e-4cf317de372a
DTSTART:20240312T080000Z
DTEND:20240312T093000Z
DTSTAMP:20240223T005225Z
LOCATION:CDU Waterfront Campus
Room 3.13.
DESCRIPTION:Free Seminar to hear Justice Hiley deliver his Native Title Lecture as part of the Judges Lecture Series.
URL:https://www.cdu.edu.au/arts-society/events/native-title-lecture
END:VEVENT
END:VCALENDAR
