BEGIN:VCALENDAR
VERSION:2.0
PRODID:-//Charles Darwin Events//EN
BEGIN:VEVENT
SUMMARY:Respect Week 2024
UID:8ccb80be-55d7-4d08-971a-b239d0340caf
DTSTART:20240317T230000Z
DTEND:20240322T070000Z
DTSTAMP:20240229T032007Z
LOCATION:Casuarina campus, Alice Springs campus, and Sydney campus
DESCRIPTION:Join us for Respect Week, where we will explore the meaning of respect and its role in the prevention of sexual assault, harassment, and bullying.
URL:https://www.cdu.edu.au/events/respect-week-2024
END:VEVENT
END:VCALENDAR
