BEGIN:VCALENDAR
VERSION:2.0
PRODID:-//Charles Darwin Events//EN
BEGIN:VEVENT
SUMMARY:Share your research impact story 
UID:65d64620-ab82-479f-9e18-e5631c7391ce
DTSTART:20240410T233000Z
DTEND:20240411T010000Z
DTSTAMP:20240305T022519Z
LOCATION:Casuarina Red9 1.48 Seminar Room
OR via Zoom https://charlesdarwinuni.zoom.us/j/5996094043?omn=83595245877
DESCRIPTION:Being able to describe the real world benefits and/or change resulting from your research in a clear, concise way is crucial to attract funding, media attention, career promotional opportunities to name a few. In this workshop you will be given examples of impact narratives and case studies to help you develop a clear, concise, non-jargon Research Summary to promote one’s research and impacts for diverse purposes. You will also learn how to use the RIS/PURE Impact Record to record impact and evidence.
URL:https://www.cdu.edu.au/research-and-innovation/research-innovation-events/share-your-research-impact-story
END:VEVENT
END:VCALENDAR
