BEGIN:VCALENDAR
VERSION:2.0
PRODID:-//Charles Darwin Events//EN
BEGIN:VEVENT
SUMMARY:Chinese Bridge Competition
UID:bdf8f167-55c3-4dae-a54f-eb661b79e505
DTSTART:20250523T233000Z
DTEND:20250524T023000Z
DTSTAMP:20240308T063012Z
LOCATION:Community Centre at CDU City Campus
DESCRIPTION:We warmly invite you to attend and observe the 2025 Chinese Bridge Chinese Proficiency Competition, hosted by the Confucius Institute at Charles Darwin University.
URL:https://www.cdu.edu.au/confucius-institute/events/chinese-bridge-competition
END:VEVENT
END:VCALENDAR
