BEGIN:VCALENDAR
VERSION:2.0
PRODID:-//Charles Darwin Events//EN
BEGIN:VEVENT
SUMMARY:Pathways into teaching for First Nations students
UID:8484008f-9b6d-490e-bcf2-7177be40d49a
DTSTART:20240327T010000Z
DTEND:20240327T020000Z
DTSTAMP:20240315T051314Z
LOCATION:Northern Institute, Savanna Room (Casuarina Campus, Building Yellow 1, Level 2, Room 48)
DESCRIPTION:Seminar with Dr Tracy Woodroffe of the final report for the project: Establishing a pathway from Secondary School VETDSS to a Bachelor of Education for First Nations students.
URL:https://www.cdu.edu.au/events/pathways-teaching-first-nations-students
END:VEVENT
END:VCALENDAR
