BEGIN:VCALENDAR
VERSION:2.0
PRODID:-//Charles Darwin Events//EN
BEGIN:VEVENT
SUMMARY:Celebrating World Tai Chi Day
UID:34d5b5b1-56f0-4b33-94ec-56d80c6b0d8a
DTSTART:20240426T213000Z
DTEND:20240427T090000Z
DTSTAMP:20240327T011301Z
LOCATION:City of Darwin Esplanade
Casuarina Shopping Centre
Australia China Friendship Society  
DESCRIPTION:The Confucius Institute welcomes you to join our Tai Chi Day celebration and demonstration.
URL:https://www.cdu.edu.au/confucius-institute/events/celebrating-world-tai-chi-day
END:VEVENT
END:VCALENDAR
