BEGIN:VCALENDAR
VERSION:2.0
PRODID:-//Charles Darwin Events//EN
BEGIN:VEVENT
SUMMARY:Social Media for Researchers
UID:58a5f70b-b849-465b-913c-d4d5bcd1246d
DTSTART:20240514T033000Z
DTEND:20240514T043000Z
DTSTAMP:20240402T013616Z
LOCATION:Online
DESCRIPTION:Elevate your research visibility and join us to navigate the digital landscape with confidence.
URL:https://www.cdu.edu.au/research-and-innovation/research-innovation-events/social-media-researchers
END:VEVENT
END:VCALENDAR
