BEGIN:VCALENDAR
VERSION:2.0
PRODID:-//Charles Darwin Events//EN
BEGIN:VEVENT
SUMMARY:HDR students showcase
UID:6b18773b-8a0f-4ab0-90e6-3b20e9524e08
DTSTART:20240410T010000Z
DTEND:20240410T021500Z
DTSTAMP:20240404T070811Z
LOCATION:Northern Institute, Savanna Room (Casuarina Campus, Building Yellow 1, Level 2, Room 48)
DESCRIPTION:NI &amp; FAS Higher Degree by Research Student Showcase
URL:https://www.cdu.edu.au/northern-institute/engage/northern-institute-events/hdr-students-showcase
END:VEVENT
END:VCALENDAR
