BEGIN:VCALENDAR
VERSION:2.0
PRODID:-//Charles Darwin Events//EN
BEGIN:VEVENT
SUMMARY:Master of Public Policy Student Presentations
UID:9876368b-dc9f-4685-abc9-99013ef2a519
DTSTART:20240514T233000Z
DTEND:20240515T013000Z
DTSTAMP:20240510T071324Z
LOCATION:Online via Zoom only.
DESCRIPTION:Join us for these Master of Public Policy Student Presentations.
URL:https://www.cdu.edu.au/northern-institute/engage/northern-institute-events/master-public-policy-student-presentations
END:VEVENT
END:VCALENDAR
