BEGIN:VCALENDAR
VERSION:2.0
PRODID:-//Charles Darwin Events//EN
BEGIN:VEVENT
SUMMARY:Research Project Planning &amp; Capturing Real World Impact 
UID:2a52d127-4c26-4ab2-9385-7644e34d07ea
DTSTART:20240716T233000Z
DTEND:20240717T020000Z
DTSTAMP:20240528T010253Z
LOCATION:Red 9, Seminar 1.48 or Zoom link: https://charlesdarwinuni.zoom.us/j/5996094043?omn=83110935798. 
DESCRIPTION:Going for a promotion? Applying for research funding? Wanting to get your research noticed? This workshop is an essential to learn fresh thinking techniques so your research plan maximises the potential for academic and real world impact.
URL:https://www.cdu.edu.au/research-and-innovation/research-innovation-events/research-project-planning-capturing-real-world-impact
END:VEVENT
END:VCALENDAR
