BEGIN:VCALENDAR
VERSION:2.0
PRODID:-//Charles Darwin Events//EN
BEGIN:VEVENT
SUMMARY:Advanced Database Searching for Health
UID:da1ef14d-4624-4214-8ca9-db465fcd44e7
DTSTART:20240723T053000Z
DTEND:20240723T063000Z
DTSTAMP:20240603T045753Z
LOCATION:Online
DESCRIPTION:The Advanced Database Searching workshop focuses on searching specific databases like CINAHL, Medline and PSYCHinfo by using MeSH (Medical Subject Headings). This session will focus on systematic searching that you can use for your scoping/umbrella/rapid/systematic reviews.
URL:https://www.cdu.edu.au/research-and-innovation/research-innovation-events/advanced-database-searching-health-0
END:VEVENT
END:VCALENDAR
