BEGIN:VCALENDAR
VERSION:2.0
PRODID:-//Charles Darwin Events//EN
BEGIN:VEVENT
SUMMARY:Finding the Research for your Literature Review
UID:343a00df-e2f7-45c1-b7bd-f28b31bd6ac9
DTSTART:20240905T013000Z
DTEND:20240905T023000Z
DTSTAMP:20240603T050303Z
LOCATION:Online
DESCRIPTION:Learn to find the research for your literature review by defining your research question, refining your search strategy and identifying the best tools.
URL:https://www.cdu.edu.au/events/finding-research-your-literature-review
END:VEVENT
END:VCALENDAR
