BEGIN:VCALENDAR
VERSION:2.0
PRODID:-//Charles Darwin Events//EN
BEGIN:VEVENT
SUMMARY:Mastering Citation Tracking: Your Research Roadmap
UID:5738115e-6c1b-4bab-b772-8be1b5d92a9e
DTSTART:20240909T053000Z
DTEND:20240909T063000Z
DTSTAMP:20240603T050823Z
LOCATION:Online
DESCRIPTION:Learn the fundamentals of citation tracking, how it can benefit your research and discover how to use citation tracking in the search engines you use now.
URL:https://www.cdu.edu.au/research-and-innovation/research-innovation-events/mastering-citation-tracking-your-research-roadmap
END:VEVENT
END:VCALENDAR
