BEGIN:VCALENDAR
VERSION:2.0
PRODID:-//Charles Darwin Events//EN
BEGIN:VEVENT
SUMMARY:Connect with the Faculty of Arts and Society
UID:8130ceaf-d28a-4c1b-8620-e20bc457139f
DTSTART:20260226T003000Z
DTEND:20260226T043000Z
DTSTAMP:20240616T113830Z
LOCATION:Danala | Education and Community Precinct
54 Cavenagh Street
Darwin
NT 0800
DESCRIPTION:Connect with your faculty.
URL:https://www.cdu.edu.au/events/connect-faculty-arts-society
END:VEVENT
END:VCALENDAR
