BEGIN:VCALENDAR
VERSION:2.0
PRODID:-//Charles Darwin Events//EN
BEGIN:VEVENT
SUMMARY:Connect with the Faculty of Science and Technology
UID:32c5fb23-aee5-473e-ae7d-df59822b24f6
DTSTART:20260226T003000Z
DTEND:20260226T033000Z
DTSTAMP:20240616T124247Z
LOCATION:This event includes two separate sessions based on the discipline you are studying. Read the event information for the time and location of the session that applies to you.
DESCRIPTION:Connect with the Faculty of Science and Technology during Orientation.
URL:https://www.cdu.edu.au/events/connect-faculty-science-technology
END:VEVENT
END:VCALENDAR
