BEGIN:VCALENDAR
VERSION:2.0
PRODID:-//Charles Darwin Events//EN
BEGIN:VEVENT
SUMMARY:Connect with the Faculty of Health
UID:a6a9b6a3-66db-44d3-a0d9-16d56c88441a
DTSTART:20260226T000000Z
DTEND:20260226T030000Z
DTSTAMP:20240616T134623Z
LOCATION:CDU Casuarina campus
Red 7, Mal Nairn Auditorium
Ellengowan Drive
Brinkin
NT 0810
DESCRIPTION:Connect with the Faculty of Health during Orientation.
URL:https://www.cdu.edu.au/events/connect-faculty-health
END:VEVENT
END:VCALENDAR
