BEGIN:VCALENDAR
VERSION:2.0
PRODID:-//Charles Darwin Events//EN
BEGIN:VEVENT
SUMMARY:Structuring your thesis (HDR)
UID:d2454c8f-ec1b-46ba-94b5-e327ba4ff057
DTSTART:20240725T043000Z
DTEND:20240725T060000Z
DTSTAMP:20240628T023421Z
LOCATION:Online
DESCRIPTION:This 90-minute workshop (online only) will overview several thesis types, with a focus on the macro-, meso-, and micro-structures of each. The session will be relevant to those in the planning stage of their research, but anyone is welcome.
URL:https://www.cdu.edu.au/events/structuring-your-thesis-hdr
END:VEVENT
END:VCALENDAR
