BEGIN:VCALENDAR
VERSION:2.0
PRODID:-//Charles Darwin Events//EN
BEGIN:VEVENT
SUMMARY:Greenskin: Warrior Traditions in Defence of Country
UID:ea82e710-f41f-439a-baec-f4618b550c31
DTSTART:20240709T003000Z
DTEND:20240709T013000Z
DTSTAMP:20240701T232527Z
LOCATION:Savanna Room Yellow 1.2.48 and Zoom
DESCRIPTION:Join us for this PhD Confirmation of Candidature presentation by Ben Ward
URL:https://www.cdu.edu.au/northern-institute/engage/northern-institute-events/greenskin-warrior-traditions-defence-country
END:VEVENT
END:VCALENDAR
