BEGIN:VCALENDAR
VERSION:2.0
PRODID:-//Charles Darwin Events//EN
BEGIN:VEVENT
SUMMARY:Experiences of an Aboriginal Teacher in the NT
UID:7043be2c-9c1f-4698-bd4c-7507642dd0dc
DTSTART:20240724T010000Z
DTEND:20240724T020000Z
DTSTAMP:20240717T053015Z
LOCATION:Northern Institute, Savanna Room (Casuarina campus, Building Yellow 1, Level 2, Room 48)
DESCRIPTION:Join us for the Northern Institute July People. Policy. Place. Seminar with Dr Tracy Woodroffe on the experiences of an Aboriginal Teacher in the NT.
URL:https://www.cdu.edu.au/northern-institute/engage/northern-institute-events/experiences-aboriginal-teacher-nt
END:VEVENT
END:VCALENDAR
