BEGIN:VCALENDAR
VERSION:2.0
PRODID:-//Charles Darwin Events//EN
BEGIN:VEVENT
SUMMARY:Tracking the Real World Impact of Your Research
UID:637631ce-f2f5-458b-a2aa-d5c8d27eefc7
DTSTART:20240917T233000Z
DTEND:20240918T010000Z
DTSTAMP:20240830T055458Z
LOCATION:Red 9 Seminar Room 1.48 or https://charlesdarwinuni.zoom.us/j/5996094043?omn=85736218359
DESCRIPTION:Research impact is 'the contribution that research makes to the economy, society, environment or culture, beyond the contribution to academic research'. Learn how to set up your research project so you can collect real world evidence of the potential benefits of your research to end users, stakeholders and the community.  You will be introduced to a number of different useful tools and resources as well as ways to use PURE as a collection point.
URL:https://www.cdu.edu.au/research-and-innovation/research-innovation-events/tracking-real-world-impact-your-research
END:VEVENT
END:VCALENDAR
