BEGIN:VCALENDAR
VERSION:2.0
PRODID:-//Charles Darwin Events//EN
BEGIN:VEVENT
SUMMARY:Writing up your results
UID:edf0cbf1-d465-4d71-8ee8-0eff2a62878f
DTSTART:20241024T043000Z
DTEND:20241024T060000Z
DTSTAMP:20240908T234629Z
LOCATION:Online
DESCRIPTION:By the end of this workshop, you will be better able to: plan the content and structure of the results section of your research paper or thesis, and use appropriate language
URL:https://www.cdu.edu.au/events/writing-your-results
END:VEVENT
END:VCALENDAR
