BEGIN:VCALENDAR
VERSION:2.0
PRODID:-//Charles Darwin Events//EN
BEGIN:VEVENT
SUMMARY:Preparing a strong research proposal
UID:01260b3a-c40c-4cbf-8e0e-c5c79234de96
DTSTART:20241010T043000Z
DTEND:20241010T060000Z
DTSTAMP:20240909T000611Z
LOCATION:Online
DESCRIPTION:This workshop will introduce you to some of the essential understanding involved in preparing and presenting your research proposal. It will provide an overview of the requirements involved in writing a research proposal and a step-by-step process toward completing a research proposal.
URL:https://www.cdu.edu.au/events/preparing-strong-research-proposal
END:VEVENT
END:VCALENDAR
