BEGIN:VCALENDAR
VERSION:2.0
PRODID:-//Charles Darwin Events//EN
BEGIN:VEVENT
SUMMARY:Writing up your discussion
UID:f08c2c34-a837-47af-9426-03aa06c51f7b
DTSTART:20241128T043000Z
DTEND:20241128T060000Z
DTSTAMP:20240909T001546Z
LOCATION:Online
DESCRIPTION:Unlock the secrets to crafting a compelling discussion section in your research paper or thesis! Join us on Thursday, 28th November, from 2:00 to 3:30 pm for a hands-on workshop designed to help you plan the content and structure of your discussion. Learn how to use precise language that aligns with the strength of your claims, ensuring your arguments are clear and persuasive. Don’t miss this chance to enhance your academic writing and make your research shine!
URL:https://www.cdu.edu.au/events/writing-your-discussion
END:VEVENT
END:VCALENDAR
