BEGIN:VCALENDAR
VERSION:2.0
PRODID:-//Charles Darwin Events//EN
BEGIN:VEVENT
SUMMARY:Preparing a strong research proposal
UID:7b165571-05ac-457e-b898-125c74d393a7
DTSTART:20241219T043000Z
DTEND:20241219T060000Z
DTSTAMP:20240909T002005Z
LOCATION:Online
DESCRIPTION:This workshop will introduce you to some of the essential understanding involved in preparing and presenting your research proposal. It will provide an overview of the requirements involved in writing a research proposal and a step-by-step process toward completing a research proposal.
URL:https://www.cdu.edu.au/events/preparing-strong-research-proposal-0
END:VEVENT
END:VCALENDAR
