BEGIN:VCALENDAR
VERSION:2.0
PRODID:-//Charles Darwin Events//EN
BEGIN:VEVENT
SUMMARY:Planning your PhD by Hugh Kearns (iThinkwell)
UID:419e0911-37b9-4e10-ab56-834c651f19ed
DTSTART:20240905T000000Z
DTEND:20240905T023000Z
DTSTAMP:20240909T002738Z
LOCATION:Red9 Sem 1.48
DESCRIPTION:Participating in the "Planning Your PhD" workshop is crucial for laying a strong foundation for my doctoral journey. It provides essential tools, strategies, and insights to effectively manage my research, time, and resources, helping me stay focused, avoid common pitfalls, and ensure a successful and timely completion of my PhD.
URL:https://www.cdu.edu.au/events/planning-your-phd-hugh-kearns-ithinkwell
END:VEVENT
END:VCALENDAR
