BEGIN:VCALENDAR
VERSION:2.0
PRODID:-//Charles Darwin Events//EN
BEGIN:VEVENT
SUMMARY:2024 CDU Alumni Awards Gala
UID:ac0e5fdb-7d21-4b48-b9b2-af9a8966389f
DTSTART:20241107T083000Z
DTEND:20241107T133000Z
DTSTAMP:20240912T043333Z
LOCATION:Darwin Convention Centre
DESCRIPTION:Event page for the CDU Alumni Awards Gala on 7 November 2024
URL:https://www.cdu.edu.au/events/2024-cdu-alumni-awards-gala
END:VEVENT
END:VCALENDAR
