BEGIN:VCALENDAR
VERSION:2.0
PRODID:-//Charles Darwin Events//EN
BEGIN:VEVENT
SUMMARY:Pausing to share communication practice and research in the NT
UID:7a840240-b15e-4863-810c-c7644bc0261f
DTSTART:20241112T233000Z
DTEND:20241113T030000Z
DTSTAMP:20241022T053926Z
LOCATION:Charles Darwin University
DESCRIPTION:Australian and Aotearoa New Zealand Communication Association (AANZCA) - NT pre-conference event
URL:https://www.cdu.edu.au/northern-institute/engage/northern-institute-events/pausing-share-communication-practice-research-nt
END:VEVENT
END:VCALENDAR
