BEGIN:VCALENDAR
VERSION:2.0
PRODID:-//Charles Darwin Events//EN
BEGIN:VEVENT
SUMMARY:Research Project Planning &amp; Capturing Real World Impact
UID:7450ce7f-9f41-4ead-99eb-58e77aea9c29
DTSTART:20241119T233000Z
DTEND:20241120T010000Z
DTSTAMP:20241104T044632Z
LOCATION:Red9 Sem 1.48 or via Zoom: https://charlesdarwinuni.zoom.us/j/5996094043?omn=89925581713#success
DESCRIPTION:Academic impact is evidenced in ways easily understood by most researchers: scholarly outputs, filed citations, and h-index as some examples. But what about societal, environmental, educational, economic and cultural impacts? How are these evidenced and articulated? Learn how!
URL:https://www.cdu.edu.au/research-and-innovation/research-innovation-events/research-project-planning-capturing-real-world-impact-0
END:VEVENT
END:VCALENDAR
