BEGIN:VCALENDAR
VERSION:2.0
PRODID:-//Charles Darwin Events//EN
BEGIN:VEVENT
SUMMARY:Zen Dance workshops
UID:7e1ed60a-a826-423d-bc1a-f48599035159
DTSTART:20260416T073000Z
DTEND:20260416T083000Z
DTSTAMP:20250129T022420Z
LOCATION:CDU Casuarina campus, Casuarina Red 02.1.01B - Green Room
DESCRIPTION:Discover the art of Zen Dance — Move with presence. Dance with spirit. Live with joy. The CDU Confucius Institute is offering Zen Dance workshops on the CDU Casuarina campus.
URL:https://www.cdu.edu.au/confucius-institute/events/zen-dance-workshops
END:VEVENT
END:VCALENDAR
